BEGIN:VCALENDAR
VERSION:2.0
PRODID:Events Booking
BEGIN:VEVENT
UID:69e74e0554bb0
SUMMARY:Informationsveranstaltung Startchancen-Programm
DESCRIPTION:Ab dem 1. August 2024 sollen im Rahmen des Startchancen-Program
 ms insgesamt 4.000 Brennpunktschulen gefördert werden. Um die Zusammenarb
 eit zwischen den verschiedenen Institutionen\, Ebenen und  Professionen z
 u fördern und die Weichen für einen erfolgreichen Programmstart zu stell
 en\, lädt das  Bundesministerium für Bildung und Forschung zu einer Inf
 ormationsveranstaltung zum Startchancenprogramm ein. Diese findet virtuell
  statt am 24. April 2024 von 9.30 Uhr bis 11.30 Uhr.
 Anmeldung nur für
  Mitglieder: Für eine Teilnahme an der Veranstaltung des BMBF melden Sie 
 sich bitte per E-Mail an vdp@privatschulen.de. Sie erhalten dann die offiz
 ielle Einladung und Agenda\, sobald das BMBF diese bekannt gegeben hat.
DTSTART:20240424T073000Z
DTEND:20240424T093000Z
DTSTAMP:20240322T104651Z
ORGANIZER;CN=VDP Nord e.V.:MAILTO:info@vdpnord.de
END:VEVENT
END:VCALENDAR